Package: idiogram Version: 1.85.0 Command: /Library/Frameworks/R.framework/Resources/bin/R CMD check --install=check:idiogram.install-out.txt --library=/Library/Frameworks/R.framework/Resources/library --no-vignettes --timings idiogram_1.85.0.tar.gz StartedAt: 2025-10-22 21:47:01 -0400 (Wed, 22 Oct 2025) EndedAt: 2025-10-22 21:49:00 -0400 (Wed, 22 Oct 2025) EllapsedTime: 118.7 seconds RetCode: 0 Status: OK CheckDir: idiogram.Rcheck Warnings: 0