Package: idiogram Version: 1.85.0 Command: rm -rf idiogram.buildbin-libdir && mkdir idiogram.buildbin-libdir && /Users/biocbuild/BBS/utils/build-universal.sh idiogram_1.85.0.tar.gz /Library/Frameworks/R.framework/Resources/bin/R idiogram.buildbin-libdir StartedAt: 2025-10-23 01:37:48 -0400 (Thu, 23 Oct 2025) EndedAt: 2025-10-23 01:38:14 -0400 (Thu, 23 Oct 2025) EllapsedTime: 25.5 seconds RetCode: 0 Status: OK PackageFile: idiogram_1.85.0.tgz PackageFileSize: 3.722 MiB