Package: idiogram Version: 1.85.0 Command: /Library/Frameworks/R.framework/Resources/bin/R CMD build --keep-empty-dirs --no-resave-data idiogram StartedAt: 2025-10-22 16:46:00 -0400 (Wed, 22 Oct 2025) EndedAt: 2025-10-22 16:46:10 -0400 (Wed, 22 Oct 2025) EllapsedTime: 10.1 seconds RetCode: 0 Status: OK PackageFile: idiogram_1.85.0.tar.gz PackageFileSize: 1.795 MiB