Package: ideal Version: 2.3.0 Command: /home/biocbuild/R/R/bin/R CMD INSTALL ideal StartedAt: 2025-10-23 21:14:38 -0000 (Thu, 23 Oct 2025) EndedAt: 2025-10-23 21:15:53 -0000 (Thu, 23 Oct 2025) EllapsedTime: 74.9 seconds RetCode: 0 Status: OK