Package: ideal Version: 2.3.0 Command: /home/biocbuild/R/R/bin/R CMD build --keep-empty-dirs --no-resave-data ideal StartedAt: 2025-10-21 00:33:20 -0000 (Tue, 21 Oct 2025) EndedAt: 2025-10-21 00:36:48 -0000 (Tue, 21 Oct 2025) EllapsedTime: 207.1 seconds RetCode: 0 Status: OK PackageFile: ideal_2.3.0.tar.gz PackageFileSize: 5.421 MiB