Package: ideal Version: 2.3.0 Command: F:\biocbuild\bbs-3.22-bioc\R\bin\R.exe CMD check --no-multiarch --install=check:ideal.install-out.txt --library=F:\biocbuild\bbs-3.22-bioc\R\library --no-vignettes --timings ideal_2.3.0.tar.gz StartedAt: 2025-08-15 04:15:53 -0400 (Fri, 15 Aug 2025) EndedAt: 2025-08-15 04:24:51 -0400 (Fri, 15 Aug 2025) EllapsedTime: 537.7 seconds RetCode: 0 Status: OK CheckDir: ideal.Rcheck Warnings: 0