Package: ideal Version: 2.3.0 Command: rm -rf ideal.buildbin-libdir && mkdir ideal.buildbin-libdir && F:\biocbuild\bbs-3.22-bioc\R\bin\R.exe CMD INSTALL --build --library=ideal.buildbin-libdir ideal_2.3.0.tar.gz StartedAt: 2025-08-15 10:29:40 -0400 (Fri, 15 Aug 2025) EndedAt: 2025-08-15 10:30:48 -0400 (Fri, 15 Aug 2025) EllapsedTime: 68.8 seconds RetCode: 0 Status: OK PackageFile: ideal_2.3.0.zip PackageFileSize: 5.177 MiB