Package: icetea Version: 1.27.1 Command: /home/biocbuild/bbs-3.22-bioc/R/bin/R CMD INSTALL icetea StartedAt: 2025-10-22 15:52:46 -0400 (Wed, 22 Oct 2025) EndedAt: 2025-10-22 15:53:35 -0400 (Wed, 22 Oct 2025) EllapsedTime: 49.0 seconds RetCode: 0 Status: OK