Package: icetea Version: 1.27.1 Command: /home/biocbuild/bbs-3.22-bioc/R/bin/R CMD build --keep-empty-dirs --no-resave-data --md5 icetea StartedAt: 2025-10-22 18:12:03 -0400 (Wed, 22 Oct 2025) EndedAt: 2025-10-22 18:13:42 -0400 (Wed, 22 Oct 2025) EllapsedTime: 99.1 seconds RetCode: 0 Status: OK PackageFile: icetea_1.27.1.tar.gz PackageFileSize: 790.4 KiB