Package: icetea Version: 1.27.1 Command: /Library/Frameworks/R.framework/Resources/bin/R CMD check --install=check:icetea.install-out.txt --library=/Library/Frameworks/R.framework/Resources/library --no-vignettes --timings icetea_1.27.1.tar.gz StartedAt: 2025-10-22 21:46:24 -0400 (Wed, 22 Oct 2025) EndedAt: 2025-10-22 21:53:41 -0400 (Wed, 22 Oct 2025) EllapsedTime: 437.0 seconds RetCode: 0 Status: WARNINGS CheckDir: icetea.Rcheck Warnings: 1