Package: icetea Version: 1.27.1 Command: /Library/Frameworks/R.framework/Resources/bin/R CMD build --keep-empty-dirs --no-resave-data icetea StartedAt: 2025-10-21 17:42:45 -0400 (Tue, 21 Oct 2025) EndedAt: 2025-10-21 17:45:37 -0400 (Tue, 21 Oct 2025) EllapsedTime: 171.5 seconds RetCode: 0 Status: OK PackageFile: icetea_1.27.1.tar.gz PackageFileSize: 794.9 KiB