Package: icetea Version: 1.27.1 Command: rm -rf icetea.buildbin-libdir && mkdir icetea.buildbin-libdir && /Users/biocbuild/BBS/utils/build-universal.sh icetea_1.27.1.tar.gz /Library/Frameworks/R.framework/Resources/bin/R icetea.buildbin-libdir StartedAt: 2025-10-22 02:29:57 -0400 (Wed, 22 Oct 2025) EndedAt: 2025-10-22 02:31:08 -0400 (Wed, 22 Oct 2025) EllapsedTime: 70.6 seconds RetCode: 0 Status: OK PackageFile: icetea_1.27.1.tgz PackageFileSize: 1.112 MiB