Package: icetea Version: 1.27.1 Command: /Library/Frameworks/R.framework/Resources/bin/R CMD INSTALL icetea StartedAt: 2025-10-23 15:27:41 -0400 (Thu, 23 Oct 2025) EndedAt: 2025-10-23 15:28:02 -0400 (Thu, 23 Oct 2025) EllapsedTime: 20.9 seconds RetCode: 0 Status: OK