Package: icetea Version: 1.27.1 Command: /Library/Frameworks/R.framework/Resources/bin/R CMD build --keep-empty-dirs --no-resave-data icetea StartedAt: 2025-10-23 16:45:50 -0400 (Thu, 23 Oct 2025) EndedAt: 2025-10-23 16:46:33 -0400 (Thu, 23 Oct 2025) EllapsedTime: 42.5 seconds RetCode: 0 Status: OK PackageFile: icetea_1.27.1.tar.gz PackageFileSize: 795.5 KiB