Package: icetea Version: 1.27.1 Command: rm -rf icetea.buildbin-libdir && mkdir icetea.buildbin-libdir && /Users/biocbuild/BBS/utils/build-universal.sh icetea_1.27.1.tar.gz /Library/Frameworks/R.framework/Resources/bin/R icetea.buildbin-libdir StartedAt: 2025-10-23 23:13:10 -0400 (Thu, 23 Oct 2025) EndedAt: 2025-10-23 23:13:32 -0400 (Thu, 23 Oct 2025) EllapsedTime: 22.5 seconds RetCode: 0 Status: OK PackageFile: icetea_1.27.1.tgz PackageFileSize: 1.114 MiB