Package: iSeq Version: 1.62.0 Command: /home/biocbuild/R/R/bin/R CMD check --install=check:iSeq.install-out.txt --library=/home/biocbuild/R/R/site-library --no-vignettes --timings iSeq_1.62.0.tar.gz StartedAt: 2025-11-14 10:49:02 -0000 (Fri, 14 Nov 2025) EndedAt: 2025-11-14 10:49:35 -0000 (Fri, 14 Nov 2025) EllapsedTime: 33.0 seconds RetCode: 0 Status: OK CheckDir: iSeq.Rcheck Warnings: 0