Package: iSeq Version: 1.62.0 Command: /home/biocbuild/bbs-3.22-bioc/R/bin/R CMD build --keep-empty-dirs --no-resave-data --md5 iSeq StartedAt: 2025-11-14 18:21:48 -0500 (Fri, 14 Nov 2025) EndedAt: 2025-11-14 18:22:06 -0500 (Fri, 14 Nov 2025) EllapsedTime: 18.0 seconds RetCode: 0 Status: OK PackageFile: iSeq_1.62.0.tar.gz PackageFileSize: 1.327 MiB