Package: iSEEu Version: 1.21.0 Command: /home/biocbuild/R/R/bin/R CMD INSTALL iSEEu StartedAt: 2025-10-16 21:38:50 -0000 (Thu, 16 Oct 2025) EndedAt: 2025-10-16 21:39:39 -0000 (Thu, 16 Oct 2025) EllapsedTime: 48.5 seconds RetCode: 0 Status: OK