Package: iSEEu Version: 1.21.0 Command: /home/biocbuild/R/R/bin/R CMD check --install=check:iSEEu.install-out.txt --library=/home/biocbuild/R/R/site-library --no-vignettes --timings iSEEu_1.21.0.tar.gz StartedAt: 2025-10-17 10:22:01 -0000 (Fri, 17 Oct 2025) EndedAt: 2025-10-17 10:28:28 -0000 (Fri, 17 Oct 2025) EllapsedTime: 387.3 seconds RetCode: 0 Status: WARNINGS CheckDir: iSEEu.Rcheck Warnings: 1