Package: iSEEu Version: 1.21.0 Command: /home/biocbuild/R/R/bin/R CMD build --keep-empty-dirs --no-resave-data iSEEu StartedAt: 2025-10-21 00:41:38 -0000 (Tue, 21 Oct 2025) EndedAt: 2025-10-21 00:44:27 -0000 (Tue, 21 Oct 2025) EllapsedTime: 169.1 seconds RetCode: 0 Status: OK PackageFile: iSEEu_1.21.0.tar.gz PackageFileSize: 1.644 MiB