Package: iSEEu Version: 1.21.0 Command: rm -rf iSEEu.buildbin-libdir && mkdir iSEEu.buildbin-libdir && F:\biocbuild\bbs-3.22-bioc\R\bin\R.exe CMD INSTALL --build --library=iSEEu.buildbin-libdir iSEEu_1.21.0.tar.gz StartedAt: 2025-08-15 10:32:02 -0400 (Fri, 15 Aug 2025) EndedAt: 2025-08-15 10:33:22 -0400 (Fri, 15 Aug 2025) EllapsedTime: 79.7 seconds RetCode: 0 Status: OK PackageFile: iSEEu_1.21.0.zip PackageFileSize: 1.433 MiB