Package: iSEEu Version: 1.21.0 Command: /home/biocbuild/bbs-3.22-bioc/R/bin/R CMD check --install=check:iSEEu.install-out.txt --library=/home/biocbuild/bbs-3.22-bioc/R/site-library --timings iSEEu_1.21.0.tar.gz StartedAt: 2025-10-20 01:10:06 -0400 (Mon, 20 Oct 2025) EndedAt: 2025-10-20 01:16:05 -0400 (Mon, 20 Oct 2025) EllapsedTime: 359.3 seconds RetCode: 0 Status: WARNINGS CheckDir: iSEEu.Rcheck Warnings: 1