Package: iSEEu Version: 1.21.0 Command: /Library/Frameworks/R.framework/Resources/bin/R CMD build --keep-empty-dirs --no-resave-data iSEEu StartedAt: 2025-10-19 17:45:53 -0400 (Sun, 19 Oct 2025) EndedAt: 2025-10-19 17:48:40 -0400 (Sun, 19 Oct 2025) EllapsedTime: 167.0 seconds RetCode: 0 Status: OK PackageFile: iSEEu_1.21.0.tar.gz PackageFileSize: 1.62 MiB