Package: iSEEhub Version: 1.11.0 Command: /Library/Frameworks/R.framework/Resources/bin/R CMD check --install=check:iSEEhub.install-out.txt --library=/Library/Frameworks/R.framework/Resources/library --no-vignettes --timings iSEEhub_1.11.0.tar.gz StartedAt: 2025-09-21 20:07:09 -0400 (Sun, 21 Sep 2025) EndedAt: 2025-09-21 20:08:52 -0400 (Sun, 21 Sep 2025) EllapsedTime: 103.2 seconds RetCode: 0 Status: OK CheckDir: iSEEhub.Rcheck Warnings: 0