Package: iSEEfier Version: 1.6.0 Command: /home/biocbuild/R/R/bin/R CMD check --install=check:iSEEfier.install-out.txt --library=/home/biocbuild/R/R/site-library --no-vignettes --timings iSEEfier_1.6.0.tar.gz StartedAt: 2025-11-21 12:04:25 -0000 (Fri, 21 Nov 2025) EndedAt: 2025-11-21 12:10:51 -0000 (Fri, 21 Nov 2025) EllapsedTime: 386.4 seconds RetCode: 0 Status: OK CheckDir: iSEEfier.Rcheck Warnings: 0