Package: iSEEfier Version: 1.5.0 Command: rm -rf iSEEfier.buildbin-libdir && mkdir iSEEfier.buildbin-libdir && /Users/biocbuild/BBS/utils/build-universal.sh iSEEfier_1.5.0.tar.gz /Library/Frameworks/R.framework/Resources/bin/R iSEEfier.buildbin-libdir StartedAt: 2025-10-20 03:15:02 -0400 (Mon, 20 Oct 2025) EndedAt: 2025-10-20 03:15:48 -0400 (Mon, 20 Oct 2025) EllapsedTime: 46.1 seconds RetCode: 0 Status: OK PackageFile: iSEEfier_1.5.0.tgz PackageFileSize: 622.7 KiB