Package: iSEEfier Version: 1.5.0 Command: /Library/Frameworks/R.framework/Resources/bin/R CMD check --install=check:iSEEfier.install-out.txt --library=/Library/Frameworks/R.framework/Resources/library --no-vignettes --timings iSEEfier_1.5.0.tar.gz StartedAt: 2025-10-06 20:05:46 -0400 (Mon, 06 Oct 2025) EndedAt: 2025-10-06 20:07:44 -0400 (Mon, 06 Oct 2025) EllapsedTime: 118.4 seconds RetCode: 0 Status: OK CheckDir: iSEEfier.Rcheck Warnings: 0