Package: iSEEde Version: 1.7.0 Command: F:\biocbuild\bbs-3.22-bioc\R\bin\R.exe CMD INSTALL iSEEde StartedAt: 2025-08-14 16:13:01 -0400 (Thu, 14 Aug 2025) EndedAt: 2025-08-14 16:13:48 -0400 (Thu, 14 Aug 2025) EllapsedTime: 47.4 seconds RetCode: 0 Status: OK