Package: iSEEde Version: 1.7.0 Command: chmod a+r iSEEde -R && F:\biocbuild\bbs-3.22-bioc\R\bin\R.exe CMD build --keep-empty-dirs --no-resave-data iSEEde StartedAt: 2025-08-14 20:59:19 -0400 (Thu, 14 Aug 2025) EndedAt: 2025-08-14 21:02:11 -0400 (Thu, 14 Aug 2025) EllapsedTime: 172.1 seconds RetCode: 0 Status: OK PackageFile: iSEEde_1.7.0.tar.gz PackageFileSize: 3.091 MiB