Package: iSEE Version: 2.21.1 Command: /home/biocbuild/R/R/bin/R CMD INSTALL iSEE StartedAt: 2025-10-16 21:37:11 -0000 (Thu, 16 Oct 2025) EndedAt: 2025-10-16 21:38:08 -0000 (Thu, 16 Oct 2025) EllapsedTime: 56.9 seconds RetCode: 0 Status: OK