Package: iSEE Version: 2.21.1 Command: /home/biocbuild/R/R/bin/R CMD build --keep-empty-dirs --no-resave-data iSEE StartedAt: 2025-10-17 02:04:54 -0000 (Fri, 17 Oct 2025) EndedAt: 2025-10-17 02:07:48 -0000 (Fri, 17 Oct 2025) EllapsedTime: 174.1 seconds RetCode: 0 Status: OK PackageFile: iSEE_2.21.1.tar.gz PackageFileSize: 26.3 MiB