Package: iSEE Version: 2.22.0 Command: /Library/Frameworks/R.framework/Resources/bin/R CMD INSTALL iSEE StartedAt: 2025-10-31 15:33:07 -0400 (Fri, 31 Oct 2025) EndedAt: 2025-10-31 15:34:03 -0400 (Fri, 31 Oct 2025) EllapsedTime: 55.9 seconds RetCode: 0 Status: OK