Package: iSEE Version: 2.22.0 Command: /Library/Frameworks/R.framework/Resources/bin/R CMD check --install=check:iSEE.install-out.txt --library=/Library/Frameworks/R.framework/Resources/library --no-vignettes --timings iSEE_2.22.0.tar.gz StartedAt: 2025-11-03 22:00:31 -0500 (Mon, 03 Nov 2025) EndedAt: 2025-11-03 22:06:44 -0500 (Mon, 03 Nov 2025) EllapsedTime: 373.1 seconds RetCode: 0 Status: OK CheckDir: iSEE.Rcheck Warnings: 0