Package: iSEE Version: 2.22.0 Command: /Library/Frameworks/R.framework/Resources/bin/R CMD check --install=check:iSEE.install-out.txt --library=/Library/Frameworks/R.framework/Resources/library --no-vignettes --timings iSEE_2.22.0.tar.gz StartedAt: 2025-11-10 20:38:58 -0500 (Mon, 10 Nov 2025) EndedAt: 2025-11-10 20:41:06 -0500 (Mon, 10 Nov 2025) EllapsedTime: 127.4 seconds RetCode: 0 Status: OK CheckDir: iSEE.Rcheck Warnings: 0