Package: iPath Version: 1.15.0 Command: /Library/Frameworks/R.framework/Resources/bin/R CMD INSTALL iPath StartedAt: 2025-10-24 15:21:03 -0400 (Fri, 24 Oct 2025) EndedAt: 2025-10-24 15:21:35 -0400 (Fri, 24 Oct 2025) EllapsedTime: 31.4 seconds RetCode: 0 Status: OK