Package: iPath Version: 1.15.0 Command: /Library/Frameworks/R.framework/Resources/bin/R CMD check --install=check:iPath.install-out.txt --library=/Library/Frameworks/R.framework/Resources/library --no-vignettes --timings iPath_1.15.0.tar.gz StartedAt: 2025-09-10 22:41:51 -0400 (Wed, 10 Sep 2025) EndedAt: 2025-09-10 22:43:42 -0400 (Wed, 10 Sep 2025) EllapsedTime: 111.5 seconds RetCode: 0 Status: OK CheckDir: iPath.Rcheck Warnings: 0