Package: iPath Version: 1.15.0 Command: /Library/Frameworks/R.framework/Resources/bin/R CMD build --keep-empty-dirs --no-resave-data iPath StartedAt: 2025-10-24 17:32:07 -0400 (Fri, 24 Oct 2025) EndedAt: 2025-10-24 17:32:43 -0400 (Fri, 24 Oct 2025) EllapsedTime: 36.4 seconds RetCode: 1 Status: ERROR PackageFile: None PackageFileSize: NA