Package: iNETgrate Version: 1.7.0 Command: /Library/Frameworks/R.framework/Resources/bin/R CMD INSTALL iNETgrate StartedAt: 2025-10-23 15:50:29 -0400 (Thu, 23 Oct 2025) EndedAt: 2025-10-23 15:51:53 -0400 (Thu, 23 Oct 2025) EllapsedTime: 84.0 seconds RetCode: 0 Status: OK