Package: iModMix Version: 0.99.3 Command: /home/biocbuild/R/R/bin/R CMD INSTALL iModMix StartedAt: 2025-10-23 21:07:47 -0000 (Thu, 23 Oct 2025) EndedAt: 2025-10-23 21:07:55 -0000 (Thu, 23 Oct 2025) EllapsedTime: 8.3 seconds RetCode: 0 Status: OK