Package: iModMix Version: 0.99.3 Command: /Library/Frameworks/R.framework/Resources/bin/R CMD check --install=check:iModMix.install-out.txt --library=/Library/Frameworks/R.framework/Resources/library --no-vignettes --timings iModMix_0.99.3.tar.gz StartedAt: 2025-10-24 21:56:24 -0400 (Fri, 24 Oct 2025) EndedAt: 2025-10-24 21:57:29 -0400 (Fri, 24 Oct 2025) EllapsedTime: 65.6 seconds RetCode: 0 Status: OK CheckDir: iModMix.Rcheck Warnings: 0