Package: iModMix Version: 0.99.3 Command: /Library/Frameworks/R.framework/Resources/bin/R CMD build --keep-empty-dirs --no-resave-data iModMix StartedAt: 2025-10-27 16:45:32 -0400 (Mon, 27 Oct 2025) EndedAt: 2025-10-27 16:45:47 -0400 (Mon, 27 Oct 2025) EllapsedTime: 15.2 seconds RetCode: 0 Status: OK PackageFile: iModMix_0.99.3.tar.gz PackageFileSize: 10.6 MiB