Package: iClusterPlus Version: 1.46.0 Command: /Library/Frameworks/R.framework/Resources/bin/R CMD INSTALL iClusterPlus StartedAt: 2025-11-10 15:01:14 -0500 (Mon, 10 Nov 2025) EndedAt: 2025-11-10 15:01:28 -0500 (Mon, 10 Nov 2025) EllapsedTime: 13.7 seconds RetCode: 0 Status: OK