Package: iClusterPlus Version: 1.46.0 Command: /Library/Frameworks/R.framework/Resources/bin/R CMD build --keep-empty-dirs --no-resave-data iClusterPlus StartedAt: 2025-11-10 16:44:10 -0500 (Mon, 10 Nov 2025) EndedAt: 2025-11-10 16:44:27 -0500 (Mon, 10 Nov 2025) EllapsedTime: 17.2 seconds RetCode: 0 Status: OK PackageFile: iClusterPlus_1.46.0.tar.gz PackageFileSize: 20.69 MiB