Package: iChip Version: 1.63.0 Command: /home/biocbuild/R/R/bin/R CMD check --install=check:iChip.install-out.txt --library=/home/biocbuild/R/R/site-library --no-vignettes --timings iChip_1.63.0.tar.gz StartedAt: 2025-10-17 10:11:37 -0000 (Fri, 17 Oct 2025) EndedAt: 2025-10-17 10:12:09 -0000 (Fri, 17 Oct 2025) EllapsedTime: 32.0 seconds RetCode: 0 Status: WARNINGS CheckDir: iChip.Rcheck Warnings: 1