Package: iChip Version: 1.63.0 Command: /home/biocbuild/R/R/bin/R CMD build --keep-empty-dirs --no-resave-data iChip StartedAt: 2025-10-21 00:32:49 -0000 (Tue, 21 Oct 2025) EndedAt: 2025-10-21 00:33:36 -0000 (Tue, 21 Oct 2025) EllapsedTime: 47.0 seconds RetCode: 0 Status: OK PackageFile: iChip_1.63.0.tar.gz PackageFileSize: 1.7 MiB