Package: iCheck Version: 1.40.0 Command: /home/biocbuild/R/R/bin/R CMD check --install=check:iCheck.install-out.txt --library=/home/biocbuild/R/R/site-library --no-vignettes --timings iCheck_1.40.0.tar.gz StartedAt: 2025-11-14 10:37:04 -0000 (Fri, 14 Nov 2025) EndedAt: 2025-11-14 10:43:43 -0000 (Fri, 14 Nov 2025) EllapsedTime: 398.5 seconds RetCode: 0 Status: OK CheckDir: iCheck.Rcheck Warnings: 0