Package: iCheck Version: 1.40.0 Command: /home/biocbuild/R/R/bin/R CMD build --keep-empty-dirs --no-resave-data iCheck StartedAt: 2025-11-14 02:35:02 -0000 (Fri, 14 Nov 2025) EndedAt: 2025-11-14 02:36:30 -0000 (Fri, 14 Nov 2025) EllapsedTime: 88.0 seconds RetCode: 0 Status: OK PackageFile: iCheck_1.40.0.tar.gz PackageFileSize: 547.6 KiB