Package: iCheck Version: 1.40.0 Command: /home/biocbuild/bbs-3.22-bioc/R/bin/R CMD build --keep-empty-dirs --no-resave-data --md5 iCheck StartedAt: 2025-11-13 18:14:49 -0500 (Thu, 13 Nov 2025) EndedAt: 2025-11-13 18:15:54 -0500 (Thu, 13 Nov 2025) EllapsedTime: 65.1 seconds RetCode: 0 Status: OK PackageFile: iCheck_1.40.0.tar.gz PackageFileSize: 561.1 KiB