Package: iCheck Version: 1.40.0 Command: rm -rf iCheck.buildbin-libdir && mkdir iCheck.buildbin-libdir && /Users/biocbuild/BBS/utils/build-universal.sh iCheck_1.40.0.tar.gz /Library/Frameworks/R.framework/Resources/bin/R iCheck.buildbin-libdir StartedAt: 2025-11-04 01:45:20 -0500 (Tue, 04 Nov 2025) EndedAt: 2025-11-04 01:46:29 -0500 (Tue, 04 Nov 2025) EllapsedTime: 69.5 seconds RetCode: 0 Status: OK PackageFile: iCheck_1.40.0.tgz PackageFileSize: 775.5 KiB