Package: iCheck Version: 1.39.0 Command: rm -rf iCheck.buildbin-libdir && mkdir iCheck.buildbin-libdir && /Users/biocbuild/BBS/utils/build-universal.sh iCheck_1.39.0.tar.gz /Library/Frameworks/R.framework/Resources/bin/R iCheck.buildbin-libdir StartedAt: 2025-10-05 22:46:23 -0400 (Sun, 05 Oct 2025) EndedAt: 2025-10-05 22:46:44 -0400 (Sun, 05 Oct 2025) EllapsedTime: 21.5 seconds RetCode: 0 Status: OK PackageFile: iCheck_1.39.0.tgz PackageFileSize: 777.2 KiB